BEGIN:VCALENDAR
VERSION:2.0
PRODID:-//jEvents 2.0 for Joomla//EN
CALSCALE:GREGORIAN
METHOD:PUBLISH
BEGIN:VTIMEZONE
TZID:Europe/Berlin
BEGIN:STANDARD
DTSTART:20231029T020000
RDATE:20240331T030000
TZOFFSETFROM:+0200
TZOFFSETTO:+0100
TZNAME:Europe/Berlin CET
END:STANDARD
BEGIN:STANDARD
DTSTART:20241027T020000
RDATE:20250330T030000
TZOFFSETFROM:+0200
TZOFFSETTO:+0100
TZNAME:Europe/Berlin CET
END:STANDARD
BEGIN:STANDARD
DTSTART:20251026T020000
RDATE:20260329T030000
TZOFFSETFROM:+0200
TZOFFSETTO:+0100
TZNAME:Europe/Berlin CET
END:STANDARD
BEGIN:STANDARD
DTSTART:20261025T020000
RDATE:20270328T030000
TZOFFSETFROM:+0200
TZOFFSETTO:+0100
TZNAME:Europe/Berlin CET
END:STANDARD
BEGIN:STANDARD
DTSTART:20271031T020000
RDATE:20280326T030000
TZOFFSETFROM:+0200
TZOFFSETTO:+0100
TZNAME:Europe/Berlin CET
END:STANDARD
BEGIN:DAYLIGHT
DTSTART:20230508T180000
RDATE:20231029T020000
TZOFFSETFROM:+0100
TZOFFSETTO:+0200
TZNAME:Europe/Berlin CEST
END:DAYLIGHT
BEGIN:DAYLIGHT
DTSTART:20240331T030000
RDATE:20241027T020000
TZOFFSETFROM:+0100
TZOFFSETTO:+0200
TZNAME:Europe/Berlin CEST
END:DAYLIGHT
BEGIN:DAYLIGHT
DTSTART:20250330T030000
RDATE:20251026T020000
TZOFFSETFROM:+0100
TZOFFSETTO:+0200
TZNAME:Europe/Berlin CEST
END:DAYLIGHT
BEGIN:DAYLIGHT
DTSTART:20260329T030000
RDATE:20261025T020000
TZOFFSETFROM:+0100
TZOFFSETTO:+0200
TZNAME:Europe/Berlin CEST
END:DAYLIGHT
BEGIN:DAYLIGHT
DTSTART:20270328T030000
RDATE:20271031T020000
TZOFFSETFROM:+0100
TZOFFSETTO:+0200
TZNAME:Europe/Berlin CEST
END:DAYLIGHT
END:VTIMEZONE
BEGIN:VEVENT
UID:994eea49015d3c810201ec257bfafdf2
CATEGORIES:Gemeinschaftsdienst
CREATED:20240413T205422
SUMMARY:Dienste - Arbeitseinsatz (Jugendlager)
LOCATION:Modellflugplatz\, Bruchweg
URL;VALUE=URI:https://www.mbg-lilienthal.de/termine/alles-ausser-fliegen/23471/arbeitsein
 satz-jugendlager?tmpl=component
DESCRIPTION:In der Mitgliederversammlung vom 12.04.2024 wurde der Termin zum Aufbau des
  Zeltes vereinbart.\nPünktliches Erscheinen ist erwünscht! Genaue Personenz
 ahl evtl. noch in der INFO Gruppe!\n \nLG Euer Vorstand\n \n \n Dieser Even
 t wurde importiert von: https://www.mbg-lilienthal.de/termine/alles-ausser-
 fliegen/23471/arbeitseinsatz-jugendlager?tmpl=component
X-ALT-DESC;FMTTYPE=text/html:<p>In der Mitgliederversammlung vom 12.04.2024 wurde der Termin zum Aufbau 
 des Zeltes vereinbart.</p><p>Pünktliches Erscheinen ist erwünscht! Genaue P
 ersonenzahl evtl. noch in der INFO Gruppe!</p><p> </p><p>LG Euer Vorstand</
 p><p> </p><p> </p> <a href="https://www.mbg-lilienthal.de/termine/alles-aus
 ser-fliegen/23471/arbeitseinsatz-jugendlager?tmpl=component">Dieser Event w
 urde importiert von: https://www.mbg-lilienthal.de/termine/alles-ausser-fli
 egen/23471/arbeitseinsatz-jugendlager?tmpl=component</a>DTSTAMP:20260422T072247
DTSTART;TZID=Europe/Berlin:20240508T180000
SEQUENCE:0
TRANSP:OPAQUE
END:VEVENT
END:VCALENDAR