BEGIN:VCALENDAR
VERSION:2.0
PRODID:-//jEvents 2.0 for Joomla//EN
CALSCALE:GREGORIAN
METHOD:PUBLISH
BEGIN:VTIMEZONE
TZID:Europe/Berlin
BEGIN:STANDARD
DTSTART:20241027T020000
RDATE:20250330T030000
TZOFFSETFROM:+0200
TZOFFSETTO:+0100
TZNAME:Europe/Berlin CET
END:STANDARD
BEGIN:STANDARD
DTSTART:20251026T020000
RDATE:20260329T030000
TZOFFSETFROM:+0200
TZOFFSETTO:+0100
TZNAME:Europe/Berlin CET
END:STANDARD
BEGIN:STANDARD
DTSTART:20261025T020000
RDATE:20270328T030000
TZOFFSETFROM:+0200
TZOFFSETTO:+0100
TZNAME:Europe/Berlin CET
END:STANDARD
BEGIN:STANDARD
DTSTART:20271031T020000
RDATE:20280326T030000
TZOFFSETFROM:+0200
TZOFFSETTO:+0100
TZNAME:Europe/Berlin CET
END:STANDARD
BEGIN:DAYLIGHT
DTSTART:20240529T000000
RDATE:20241027T020000
TZOFFSETFROM:+0100
TZOFFSETTO:+0200
TZNAME:Europe/Berlin CEST
END:DAYLIGHT
BEGIN:DAYLIGHT
DTSTART:20250330T030000
RDATE:20251026T020000
TZOFFSETFROM:+0100
TZOFFSETTO:+0200
TZNAME:Europe/Berlin CEST
END:DAYLIGHT
BEGIN:DAYLIGHT
DTSTART:20260329T030000
RDATE:20261025T020000
TZOFFSETFROM:+0100
TZOFFSETTO:+0200
TZNAME:Europe/Berlin CEST
END:DAYLIGHT
BEGIN:DAYLIGHT
DTSTART:20270328T030000
RDATE:20271031T020000
TZOFFSETFROM:+0100
TZOFFSETTO:+0200
TZNAME:Europe/Berlin CEST
END:DAYLIGHT
END:VTIMEZONE
BEGIN:VEVENT
UID:f9e24ccbaab8d4a2bd7eb192fca25c7e
CATEGORIES:Gemeinschaftsdienst
CREATED:19700101T010000
SUMMARY:JEvents-2025 - Jugendlager
LOCATION:Modellflugplatz\, Bruchweg
URL;VALUE=URI:https://www.mbg-lilienthal.de/termine/alles-ausser-fliegen/23973/jugendlage
 r?tmpl=component
DESCRIPTION:Diese Woche sorgt Jugendlager für ein sauberes Umfeld. <a href="https://www
 .mbg-lilienthal.de/termine/alles-ausser-fliegen/23973/jugendlager?tmpl=comp
 onent">Dieser Event wurde importiert von: https://www.mbg-lilienthal.de/ter
 mine/alles-ausser-fliegen/23973/jugendlager?tmpl=component</a>X-EXTRAINFO:Jugendlager hat Platzdienst.
DTSTAMP:20260420T011131
DTSTART;TZID=Europe/Berlin:20250530T000000
DTEND;TZID=Europe/Berlin:20250531T120000
SEQUENCE:0
RRULE:FREQ=DAILY;COUNT=1;INTERVAL=1
TRANSP:OPAQUE
END:VEVENT
END:VCALENDAR