BEGIN:VCALENDAR
VERSION:2.0
PRODID:-//jEvents 2.0 for Joomla//EN
CALSCALE:GREGORIAN
METHOD:PUBLISH
BEGIN:VTIMEZONE
TZID:Europe/Berlin
BEGIN:STANDARD
DTSTART:20241027T020000
RDATE:20250330T030000
TZOFFSETFROM:+0200
TZOFFSETTO:+0100
TZNAME:Europe/Berlin CET
END:STANDARD
BEGIN:STANDARD
DTSTART:20251026T020000
RDATE:20260329T030000
TZOFFSETFROM:+0200
TZOFFSETTO:+0100
TZNAME:Europe/Berlin CET
END:STANDARD
BEGIN:STANDARD
DTSTART:20261025T020000
RDATE:20270328T030000
TZOFFSETFROM:+0200
TZOFFSETTO:+0100
TZNAME:Europe/Berlin CET
END:STANDARD
BEGIN:STANDARD
DTSTART:20271031T020000
RDATE:20280326T030000
TZOFFSETFROM:+0200
TZOFFSETTO:+0100
TZNAME:Europe/Berlin CET
END:STANDARD
BEGIN:DAYLIGHT
DTSTART:20240501T000000
RDATE:20241027T020000
TZOFFSETFROM:+0100
TZOFFSETTO:+0200
TZNAME:Europe/Berlin CEST
END:DAYLIGHT
BEGIN:DAYLIGHT
DTSTART:20250330T030000
RDATE:20251026T020000
TZOFFSETFROM:+0100
TZOFFSETTO:+0200
TZNAME:Europe/Berlin CEST
END:DAYLIGHT
BEGIN:DAYLIGHT
DTSTART:20260329T030000
RDATE:20261025T020000
TZOFFSETFROM:+0100
TZOFFSETTO:+0200
TZNAME:Europe/Berlin CEST
END:DAYLIGHT
BEGIN:DAYLIGHT
DTSTART:20270328T030000
RDATE:20271031T020000
TZOFFSETFROM:+0100
TZOFFSETTO:+0200
TZNAME:Europe/Berlin CEST
END:DAYLIGHT
END:VTIMEZONE
BEGIN:VEVENT
UID:89d7df570b0796b0e5d96db3e22eb5d9
CATEGORIES:Extern
CREATED:20250307T192503
SUMMARY:Termine - ProWing International, Soest / Bad Sassendorf
LOCATION:59505 Bad Sassendorf\, Am Flugplatz 5
URL;VALUE=URI:https://www.mbg-lilienthal.de/termine/alles-ausser-fliegen/23999/prowing-in
 ternational,-soest-bad-sassendorf?tmpl=component
DESCRIPTION:Flugtage, Modellbaumesse\n Dieser Event wurde importiert von: https://www.m
 bg-lilienthal.de/termine/alles-ausser-fliegen/23999/prowing-international,-
 soest-bad-sassendorf?tmpl=component (https://www.mbg-lilienthal.de/termine/
 alles-ausser-fliegen/23999/prowing-international,-soest-bad-sassendorf?tmpl
 =component)
X-ALT-DESC;FMTTYPE=text/html:<p>Flugtage, Modellbaumesse</p> <a href="https://www.mbg-lilienthal.de/term
 ine/alles-ausser-fliegen/23999/prowing-international,-soest-bad-sassendorf?
 tmpl=component">Dieser Event wurde importiert von: https://www.mbg-lilienth
 al.de/termine/alles-ausser-fliegen/23999/prowing-international,-soest-bad-s
 assendorf?tmpl=component</a>X-EXTRAINFO:https://www.prowing.de/aktuelles
DTSTAMP:20260420T013658
DTSTART;TZID=Europe/Berlin;VALUE=DATE:20250502
DTEND;TZID=Europe/Berlin;VALUE=DATE:20250505
SEQUENCE:0
TRANSP:OPAQUE
END:VEVENT
END:VCALENDAR