BEGIN:VCALENDAR
VERSION:2.0
PRODID:-//jEvents 2.0 for Joomla//EN
CALSCALE:GREGORIAN
METHOD:PUBLISH
BEGIN:VTIMEZONE
TZID:Europe/Berlin
BEGIN:STANDARD
DTSTART:20241027T020000
RDATE:20250330T030000
TZOFFSETFROM:+0200
TZOFFSETTO:+0100
TZNAME:Europe/Berlin CET
END:STANDARD
BEGIN:STANDARD
DTSTART:20251026T020000
RDATE:20260329T030000
TZOFFSETFROM:+0200
TZOFFSETTO:+0100
TZNAME:Europe/Berlin CET
END:STANDARD
BEGIN:STANDARD
DTSTART:20261025T020000
RDATE:20270328T030000
TZOFFSETFROM:+0200
TZOFFSETTO:+0100
TZNAME:Europe/Berlin CET
END:STANDARD
BEGIN:STANDARD
DTSTART:20271031T020000
RDATE:20280326T030000
TZOFFSETFROM:+0200
TZOFFSETTO:+0100
TZNAME:Europe/Berlin CET
END:STANDARD
BEGIN:DAYLIGHT
DTSTART:20240613T000000
RDATE:20241027T020000
TZOFFSETFROM:+0100
TZOFFSETTO:+0200
TZNAME:Europe/Berlin CEST
END:DAYLIGHT
BEGIN:DAYLIGHT
DTSTART:20250330T030000
RDATE:20251026T020000
TZOFFSETFROM:+0100
TZOFFSETTO:+0200
TZNAME:Europe/Berlin CEST
END:DAYLIGHT
BEGIN:DAYLIGHT
DTSTART:20260329T030000
RDATE:20261025T020000
TZOFFSETFROM:+0100
TZOFFSETTO:+0200
TZNAME:Europe/Berlin CEST
END:DAYLIGHT
BEGIN:DAYLIGHT
DTSTART:20270328T030000
RDATE:20271031T020000
TZOFFSETFROM:+0100
TZOFFSETTO:+0200
TZNAME:Europe/Berlin CEST
END:DAYLIGHT
END:VTIMEZONE
BEGIN:VEVENT
UID:a12fba804146e579458dcfbb746a5df6
CATEGORIES:Extern
CREATED:19700101T010000
SUMMARY:Termine - Flugtag EMC Duderstadt
LOCATION:Modellflugplatz Germershausen
URL;VALUE=URI:https://www.mbg-lilienthal.de/termine/alles-ausser-fliegen/24005/flugtag-em
 c-duderstadt?tmpl=component
DESCRIPTION:<p>Flugtag in Germershausen, 10-17h</p> <a href="https://www.mbg-lilienthal
 .de/termine/alles-ausser-fliegen/24005/flugtag-emc-duderstadt?tmpl=componen
 t">Dieser Event wurde importiert von: https://www.mbg-lilienthal.de/termine
 /alles-ausser-fliegen/24005/flugtag-emc-duderstadt?tmpl=component</a>X-EXTRAINFO:https://www.facebook.com/EMCDuderstadt/?locale=de_DE
DTSTAMP:20260420T065431
DTSTART;TZID=Europe/Berlin;VALUE=DATE:20250614
DTEND;TZID=Europe/Berlin;VALUE=DATE:20250615
SEQUENCE:0
RRULE:FREQ=DAILY;COUNT=1;INTERVAL=1
TRANSP:OPAQUE
END:VEVENT
END:VCALENDAR