BEGIN:VCALENDAR
VERSION:2.0
PRODID:-//jEvents 2.0 for Joomla//EN
CALSCALE:GREGORIAN
METHOD:PUBLISH
BEGIN:VTIMEZONE
TZID:Europe/Berlin
BEGIN:STANDARD
DTSTART:20231029T020000
RDATE:20240331T030000
TZOFFSETFROM:+0200
TZOFFSETTO:+0100
TZNAME:Europe/Berlin CET
END:STANDARD
BEGIN:STANDARD
DTSTART:20241027T020000
RDATE:20250330T030000
TZOFFSETFROM:+0200
TZOFFSETTO:+0100
TZNAME:Europe/Berlin CET
END:STANDARD
BEGIN:STANDARD
DTSTART:20251026T020000
RDATE:20260329T030000
TZOFFSETFROM:+0200
TZOFFSETTO:+0100
TZNAME:Europe/Berlin CET
END:STANDARD
BEGIN:STANDARD
DTSTART:20261025T020000
RDATE:20270328T030000
TZOFFSETFROM:+0200
TZOFFSETTO:+0100
TZNAME:Europe/Berlin CET
END:STANDARD
BEGIN:STANDARD
DTSTART:20271031T020000
RDATE:20280326T030000
TZOFFSETFROM:+0200
TZOFFSETTO:+0100
TZNAME:Europe/Berlin CET
END:STANDARD
BEGIN:DAYLIGHT
DTSTART:20230526T000000
RDATE:20231029T020000
TZOFFSETFROM:+0100
TZOFFSETTO:+0200
TZNAME:Europe/Berlin CEST
END:DAYLIGHT
BEGIN:DAYLIGHT
DTSTART:20240331T030000
RDATE:20241027T020000
TZOFFSETFROM:+0100
TZOFFSETTO:+0200
TZNAME:Europe/Berlin CEST
END:DAYLIGHT
BEGIN:DAYLIGHT
DTSTART:20250330T030000
RDATE:20251026T020000
TZOFFSETFROM:+0100
TZOFFSETTO:+0200
TZNAME:Europe/Berlin CEST
END:DAYLIGHT
BEGIN:DAYLIGHT
DTSTART:20260329T030000
RDATE:20261025T020000
TZOFFSETFROM:+0100
TZOFFSETTO:+0200
TZNAME:Europe/Berlin CEST
END:DAYLIGHT
BEGIN:DAYLIGHT
DTSTART:20270328T030000
RDATE:20271031T020000
TZOFFSETFROM:+0100
TZOFFSETTO:+0200
TZNAME:Europe/Berlin CEST
END:DAYLIGHT
END:VTIMEZONE
BEGIN:VEVENT
UID:a16ff2b0a646425bd7d7cb6593c10f73
CATEGORIES:Extern
CREATED:20240307T203115
SUMMARY:Termine - Einweihung der “Startbahn West” MSV Condor in Göttingen
LOCATION:Modellflugplatz\, Elliehausen
URL;VALUE=URI:https://www.mbg-lilienthal.de/termine/jahresueberblick/23473/einweihung-der
 -“startbahn-west”-msv-condor-in-göttingen?tmpl=component
DESCRIPTION:<h1><strong>MSV Condor eröffnet Startbahn West</strong></h1><p><em><strong>
 Veranstaltung außerhalb der MBG für mit Condor befreundete Vereine</strong>
 </em></p><p>Der MSV hat auf seiner Camping- und Parkfläche aktuell noch Pla
 tz und bittet um Anmeldung, wenn Camping gewünscht ist.</p><p> </p><p>Sie w
 ürden sich sehr freuen, Freunde aus der Nachbarschaft am Wochenende nach Pf
 ingsten auf ihrem Gelände oberhalb von Elliehausen begrüßen zu dürfen. Die 
 Anreise ist ab Donnerstag möglich.</p><p><strong>Anmeldung bitte unter <u><
 !-- Diese E-Mail Adresse ist vor Spambots geschützt. --><a href="javascript
 :/* Diese E-Mail Adresse ist vor Spambots gesch&uuml;tzt.*/"><span class="c
 loaked_email ep_da9aa4c9"><span data-ep-a="&#102;&#108;&#117;&#103;" data-e
 p-b="&#101;"><span data-ep-a="&#116;&#97;&#103;&#64;" data-ep-b="&#111;&#11
 4;&#46;&#100;"><span data-ep-a="&#109;s&#118;-" data-ep-b="&#99;&#111;&#110
 ;d"></span></span></span></span><script>RegularLabs.EmailProtector.unCloak(
 "ep_da9aa4c9");</script><span class="cloaked_email ep_47469a10" style="disp
 lay:none;"><span data-ep-a="&#102;l&#117;&#103;" data-ep-b="&#101;"><span d
 ata-ep-a="t&#97;&#103;&#64;" data-ep-b="&#111;&#114;&#46;&#100;"><span data
 -ep-a="&#109;&#115;&#118;&#45;" data-ep-b="&#99;o&#110;&#100;"></span></spa
 n></span></span></a><script>RegularLabs.EmailProtector.unCloak("ep_47469a10
 ", true);</script>.</u></strong></p><p> </p><p>Ansprechpartner ist: Wolfgan
 g Schmitt (Schriftführer) über obige Eventmailadresse.</p><p> </p><p> </p> 
 <a href="https://www.mbg-lilienthal.de/termine/jahresueberblick/23473/einwe
 ihung-der-“startbahn-west”-msv-condor-in-göttingen?tmpl=component">Dieser E
 vent wurde importiert von: https://www.mbg-lilienthal.de/termine/jahresuebe
 rblick/23473/einweihung-der-“startbahn-west”-msv-condor-in-göttingen?tmpl=c
 omponent</a>
X-ALT-DESC;FMTTYPE=text/html:<h1><strong>MSV Condor eröffnet Startbahn West</strong></h1><p><em><strong>
 Veranstaltung außerhalb der MBG für mit Condor befreundete Vereine</strong>
 </em></p><p>Der MSV hat auf seiner Camping- und Parkfläche aktuell noch Pla
 tz und bittet um Anmeldung, wenn Camping gewünscht ist.</p><p> </p><p>Sie w
 ürden sich sehr freuen, Freunde aus der Nachbarschaft am Wochenende nach Pf
 ingsten auf ihrem Gelände oberhalb von Elliehausen begrüßen zu dürfen. Die 
 Anreise ist ab Donnerstag möglich.</p><p><strong>Anmeldung bitte unter <u><
 !-- Diese E-Mail Adresse ist vor Spambots geschützt. --><a href="https://ww
 w.mbg-lilienthal.de/javascript:/* Diese E-Mail Adresse ist vor Spambots ges
 ch&uuml;tzt.*/"><span class="cloaked_email ep_da9aa4c9"><span data-ep-a="&#
 102;&#108;&#117;&#103;" data-ep-b="&#101;"><span data-ep-a="&#116;&#97;&#10
 3;&#64;" data-ep-b="&#111;&#114;&#46;&#100;"><span data-ep-a="&#109;s&#118;
 -" data-ep-b="&#99;&#111;&#110;d"></span></span></span></span><script>Regul
 arLabs.EmailProtector.unCloak("ep_da9aa4c9");</script><span class="cloaked_
 email ep_47469a10" style="display:none;"><span data-ep-a="&#102;l&#117;&#10
 3;" data-ep-b="&#101;"><span data-ep-a="t&#97;&#103;&#64;" data-ep-b="&#111
 ;&#114;&#46;&#100;"><span data-ep-a="&#109;&#115;&#118;&#45;" data-ep-b="&#
 99;o&#110;&#100;"></span></span></span></span></a><script>RegularLabs.Email
 Protector.unCloak("ep_47469a10", true);</script>.</u></strong></p><p> </p><
 p>Ansprechpartner ist: Wolfgang Schmitt (Schriftführer) über obige Eventmai
 ladresse.</p><p> </p><p> </p> <a href="https://www.mbg-lilienthal.de/termin
 e/jahresueberblick/23473/einweihung-der-“startbahn-west”-msv-condor-in-gött
 ingen?tmpl=component">Dieser Event wurde importiert von: https://www.mbg-li
 lienthal.de/termine/jahresueberblick/23473/einweihung-der-“startbahn-west”-
 msv-condor-in-göttingen?tmpl=component</a>CONTACT:RegularLabs.EmailProtector.unCloak("ep_95cb5a04");
X-EXTRAINFO:https://msv-condor.de/events/categories/condor-oeffentlich/
DTSTAMP:20260423T192454
DTSTART;TZID=Europe/Berlin;VALUE=DATE:20240526
DTEND;TZID=Europe/Berlin;VALUE=DATE:20240527
SEQUENCE:0
TRANSP:OPAQUE
END:VEVENT
END:VCALENDAR