BEGIN:VCALENDAR
VERSION:2.0
PRODID:-//jEvents 2.0 for Joomla//EN
CALSCALE:GREGORIAN
METHOD:PUBLISH
BEGIN:VTIMEZONE
TZID:Europe/Berlin
BEGIN:STANDARD
DTSTART:20241027T020000
RDATE:20250330T030000
TZOFFSETFROM:+0200
TZOFFSETTO:+0100
TZNAME:Europe/Berlin CET
END:STANDARD
BEGIN:STANDARD
DTSTART:20251026T020000
RDATE:20260329T030000
TZOFFSETFROM:+0200
TZOFFSETTO:+0100
TZNAME:Europe/Berlin CET
END:STANDARD
BEGIN:STANDARD
DTSTART:20261025T020000
RDATE:20270328T030000
TZOFFSETFROM:+0200
TZOFFSETTO:+0100
TZNAME:Europe/Berlin CET
END:STANDARD
BEGIN:STANDARD
DTSTART:20271031T020000
RDATE:20280326T030000
TZOFFSETFROM:+0200
TZOFFSETTO:+0100
TZNAME:Europe/Berlin CET
END:STANDARD
BEGIN:DAYLIGHT
DTSTART:20240410T000000
RDATE:20241027T020000
TZOFFSETFROM:+0100
TZOFFSETTO:+0200
TZNAME:Europe/Berlin CEST
END:DAYLIGHT
BEGIN:DAYLIGHT
DTSTART:20250330T030000
RDATE:20251026T020000
TZOFFSETFROM:+0100
TZOFFSETTO:+0200
TZNAME:Europe/Berlin CEST
END:DAYLIGHT
BEGIN:DAYLIGHT
DTSTART:20260329T030000
RDATE:20261025T020000
TZOFFSETFROM:+0100
TZOFFSETTO:+0200
TZNAME:Europe/Berlin CEST
END:DAYLIGHT
BEGIN:DAYLIGHT
DTSTART:20270328T030000
RDATE:20271031T020000
TZOFFSETFROM:+0100
TZOFFSETTO:+0200
TZNAME:Europe/Berlin CEST
END:DAYLIGHT
END:VTIMEZONE
BEGIN:VEVENT
UID:fb6389ab8a3c1e56925a8c052eb54ced
CATEGORIES:Platzdienst
CREATED:20250307T142316
SUMMARY:JEvents-2025 - Marco D.
LOCATION:Modellflugplatz\, Bruchweg
URL;VALUE=URI:https://www.mbg-lilienthal.de/termine/jahresueberblick/23966/marco-d?tmpl=c
 omponent
DESCRIPTION:Diese Woche sorgt Marco D. für ein sauberes Umfeld. Dieser Event wurde impo
 rtiert von: https://www.mbg-lilienthal.de/termine/jahresueberblick/23966/ma
 rco-d?tmpl=component (https://www.mbg-lilienthal.de/termine/jahresueberblic
 k/23966/marco-d?tmpl=component)
X-ALT-DESC;FMTTYPE=text/html:Diese Woche sorgt Marco D. für ein sauberes Umfeld. <a href="https://www.mb
 g-lilienthal.de/termine/jahresueberblick/23966/marco-d?tmpl=component">Dies
 er Event wurde importiert von: https://www.mbg-lilienthal.de/termine/jahres
 ueberblick/23966/marco-d?tmpl=component</a>X-EXTRAINFO:Marco D. hat Platzdienst.
DTSTAMP:20260422T092514
DTSTART;TZID=Europe/Berlin:20250411T000000
DTEND;TZID=Europe/Berlin:20250412T120000
SEQUENCE:0
TRANSP:OPAQUE
END:VEVENT
END:VCALENDAR