BEGIN:VCALENDAR
VERSION:2.0
PRODID:-//jEvents 2.0 for Joomla//EN
CALSCALE:GREGORIAN
METHOD:PUBLISH
BEGIN:VTIMEZONE
TZID:Europe/Berlin
BEGIN:STANDARD
DTSTART:20241027T020000
RDATE:20250330T030000
TZOFFSETFROM:+0200
TZOFFSETTO:+0100
TZNAME:Europe/Berlin CET
END:STANDARD
BEGIN:STANDARD
DTSTART:20251026T020000
RDATE:20260329T030000
TZOFFSETFROM:+0200
TZOFFSETTO:+0100
TZNAME:Europe/Berlin CET
END:STANDARD
BEGIN:STANDARD
DTSTART:20261025T020000
RDATE:20270328T030000
TZOFFSETFROM:+0200
TZOFFSETTO:+0100
TZNAME:Europe/Berlin CET
END:STANDARD
BEGIN:STANDARD
DTSTART:20271031T020000
RDATE:20280326T030000
TZOFFSETFROM:+0200
TZOFFSETTO:+0100
TZNAME:Europe/Berlin CET
END:STANDARD
BEGIN:DAYLIGHT
DTSTART:20240515T000000
RDATE:20241027T020000
TZOFFSETFROM:+0100
TZOFFSETTO:+0200
TZNAME:Europe/Berlin CEST
END:DAYLIGHT
BEGIN:DAYLIGHT
DTSTART:20250330T030000
RDATE:20251026T020000
TZOFFSETFROM:+0100
TZOFFSETTO:+0200
TZNAME:Europe/Berlin CEST
END:DAYLIGHT
BEGIN:DAYLIGHT
DTSTART:20260329T030000
RDATE:20261025T020000
TZOFFSETFROM:+0100
TZOFFSETTO:+0200
TZNAME:Europe/Berlin CEST
END:DAYLIGHT
BEGIN:DAYLIGHT
DTSTART:20270328T030000
RDATE:20271031T020000
TZOFFSETFROM:+0100
TZOFFSETTO:+0200
TZNAME:Europe/Berlin CEST
END:DAYLIGHT
END:VTIMEZONE
BEGIN:VEVENT
UID:a4d35478f1b7d23fafecb77099e920ed
CATEGORIES:Platzdienst
CREATED:19700101T010000
SUMMARY:JEvents-2025 - Thomas B.
LOCATION:Modellflugplatz\, Bruchweg
URL;VALUE=URI:https://www.mbg-lilienthal.de/termine/jahresueberblick/23971/thomas-b?tmpl=
 component
DESCRIPTION:Diese Woche sorgt Thomas B. für ein sauberes Umfeld. <a href="https://www.m
 bg-lilienthal.de/termine/jahresueberblick/23971/thomas-b?tmpl=component">Di
 eser Event wurde importiert von: https://www.mbg-lilienthal.de/termine/jahr
 esueberblick/23971/thomas-b?tmpl=component</a>X-EXTRAINFO:Thomas B. hat Platzdienst.
DTSTAMP:20260422T221526
DTSTART;TZID=Europe/Berlin:20250516T000000
DTEND;TZID=Europe/Berlin:20250517T120000
SEQUENCE:0
TRANSP:OPAQUE
END:VEVENT
END:VCALENDAR