BEGIN:VCALENDAR
VERSION:2.0
PRODID:-//jEvents 2.0 for Joomla//EN
CALSCALE:GREGORIAN
METHOD:PUBLISH
BEGIN:VTIMEZONE
TZID:Europe/Berlin
BEGIN:STANDARD
DTSTART:20241027T020000
RDATE:20250330T030000
TZOFFSETFROM:+0200
TZOFFSETTO:+0100
TZNAME:Europe/Berlin CET
END:STANDARD
BEGIN:STANDARD
DTSTART:20251026T020000
RDATE:20260329T030000
TZOFFSETFROM:+0200
TZOFFSETTO:+0100
TZNAME:Europe/Berlin CET
END:STANDARD
BEGIN:STANDARD
DTSTART:20261025T020000
RDATE:20270328T030000
TZOFFSETFROM:+0200
TZOFFSETTO:+0100
TZNAME:Europe/Berlin CET
END:STANDARD
BEGIN:STANDARD
DTSTART:20271031T020000
RDATE:20280326T030000
TZOFFSETFROM:+0200
TZOFFSETTO:+0100
TZNAME:Europe/Berlin CET
END:STANDARD
BEGIN:DAYLIGHT
DTSTART:20240717T000000
RDATE:20241027T020000
TZOFFSETFROM:+0100
TZOFFSETTO:+0200
TZNAME:Europe/Berlin CEST
END:DAYLIGHT
BEGIN:DAYLIGHT
DTSTART:20250330T030000
RDATE:20251026T020000
TZOFFSETFROM:+0100
TZOFFSETTO:+0200
TZNAME:Europe/Berlin CEST
END:DAYLIGHT
BEGIN:DAYLIGHT
DTSTART:20260329T030000
RDATE:20261025T020000
TZOFFSETFROM:+0100
TZOFFSETTO:+0200
TZNAME:Europe/Berlin CEST
END:DAYLIGHT
BEGIN:DAYLIGHT
DTSTART:20270328T030000
RDATE:20271031T020000
TZOFFSETFROM:+0100
TZOFFSETTO:+0200
TZNAME:Europe/Berlin CEST
END:DAYLIGHT
END:VTIMEZONE
BEGIN:VEVENT
UID:38a052e42313f45688533adca8df1cc6
CATEGORIES:Platzdienst
CREATED:20250307T142316
SUMMARY:JEvents-2025 - Thomas S.
LOCATION:Modellflugplatz\, Bruchweg
URL;VALUE=URI:https://www.mbg-lilienthal.de/termine/jahresueberblick/23980/thomas-s?tmpl=
 component
DESCRIPTION:Diese Woche sorgt Thomas S. für ein sauberes Umfeld. <a href="https://www.m
 bg-lilienthal.de/termine/jahresueberblick/23980/thomas-s?tmpl=component">Di
 eser Event wurde importiert von: https://www.mbg-lilienthal.de/termine/jahr
 esueberblick/23980/thomas-s?tmpl=component</a>X-EXTRAINFO:Thomas S. hat Platzdienst.
DTSTAMP:20260422T224146
DTSTART;TZID=Europe/Berlin:20250718T000000
DTEND;TZID=Europe/Berlin:20250719T120000
SEQUENCE:0
TRANSP:OPAQUE
END:VEVENT
END:VCALENDAR